BEGIN:VCALENDAR
VERSION:2.0
PRODID:-//Fort Worth Area of Narcotics Anonymous - ECPv6.15.20//NONSGML v1.0//EN
CALSCALE:GREGORIAN
METHOD:PUBLISH
X-WR-CALNAME:Fort Worth Area of Narcotics Anonymous
X-ORIGINAL-URL:https://fwana.org
X-WR-CALDESC:Events for Fort Worth Area of Narcotics Anonymous
REFRESH-INTERVAL;VALUE=DURATION:PT1H
X-Robots-Tag:noindex
X-PUBLISHED-TTL:PT1H
BEGIN:VTIMEZONE
TZID:America/Chicago
BEGIN:DAYLIGHT
TZOFFSETFROM:-0600
TZOFFSETTO:-0500
TZNAME:CDT
DTSTART:20240310T080000
END:DAYLIGHT
BEGIN:STANDARD
TZOFFSETFROM:-0500
TZOFFSETTO:-0600
TZNAME:CST
DTSTART:20241103T070000
END:STANDARD
BEGIN:DAYLIGHT
TZOFFSETFROM:-0600
TZOFFSETTO:-0500
TZNAME:CDT
DTSTART:20250309T080000
END:DAYLIGHT
BEGIN:STANDARD
TZOFFSETFROM:-0500
TZOFFSETTO:-0600
TZNAME:CST
DTSTART:20251102T070000
END:STANDARD
BEGIN:DAYLIGHT
TZOFFSETFROM:-0600
TZOFFSETTO:-0500
TZNAME:CDT
DTSTART:20260308T080000
END:DAYLIGHT
BEGIN:STANDARD
TZOFFSETFROM:-0500
TZOFFSETTO:-0600
TZNAME:CST
DTSTART:20261101T070000
END:STANDARD
END:VTIMEZONE
BEGIN:VEVENT
DTSTART;TZID=America/Chicago:20250701T200000
DTEND;TZID=America/Chicago:20250701T210000
DTSTAMP:20260425T071659
CREATED:20250609T005326Z
LAST-MODIFIED:20250609T175752Z
UID:4465-1751400000-1751403600@fwana.org
SUMMARY:Outreach Trip to Step One
DESCRIPTION:
URL:https://fwana.org/calendar/outreach-trip-to-step-one/
LOCATION:Step One\, 4213 Hwy 377\, Fort Worth\, TX\, 76116
ATTACH;FMTTYPE=application/pdf:https://fwana.org/wp-content/uploads/2025/06/Outreach-Step-One-1.pdf
END:VEVENT
END:VCALENDAR