BEGIN:VCALENDAR
VERSION:2.0
PRODID:-//Fort Worth Area of Narcotics Anonymous - ECPv6.15.20//NONSGML v1.0//EN
CALSCALE:GREGORIAN
METHOD:PUBLISH
X-WR-CALNAME:Fort Worth Area of Narcotics Anonymous
X-ORIGINAL-URL:https://fwana.org
X-WR-CALDESC:Events for Fort Worth Area of Narcotics Anonymous
REFRESH-INTERVAL;VALUE=DURATION:PT1H
X-Robots-Tag:noindex
X-PUBLISHED-TTL:PT1H
BEGIN:VTIMEZONE
TZID:America/Chicago
BEGIN:DAYLIGHT
TZOFFSETFROM:-0600
TZOFFSETTO:-0500
TZNAME:CDT
DTSTART:20250309T080000
END:DAYLIGHT
BEGIN:STANDARD
TZOFFSETFROM:-0500
TZOFFSETTO:-0600
TZNAME:CST
DTSTART:20251102T070000
END:STANDARD
BEGIN:DAYLIGHT
TZOFFSETFROM:-0600
TZOFFSETTO:-0500
TZNAME:CDT
DTSTART:20260308T080000
END:DAYLIGHT
BEGIN:STANDARD
TZOFFSETFROM:-0500
TZOFFSETTO:-0600
TZNAME:CST
DTSTART:20261101T070000
END:STANDARD
BEGIN:DAYLIGHT
TZOFFSETFROM:-0600
TZOFFSETTO:-0500
TZNAME:CDT
DTSTART:20270314T080000
END:DAYLIGHT
BEGIN:STANDARD
TZOFFSETFROM:-0500
TZOFFSETTO:-0600
TZNAME:CST
DTSTART:20271107T070000
END:STANDARD
END:VTIMEZONE
BEGIN:VEVENT
DTSTART;TZID=America/Chicago:20260110T120000
DTEND;TZID=America/Chicago:20260110T220000
DTSTAMP:20260420T215336
CREATED:20250924T164516Z
LAST-MODIFIED:20251219T235607Z
UID:4635-1768046400-1768082400@fwana.org
SUMMARY:Expect a Miracle Anniversary
DESCRIPTION:26th Anniversary\nChristCultureChurch Gym
URL:https://fwana.org/calendar/expect-a-miracle-anniversary/
LOCATION:Christ Culture Church\, 640 NW Tarrant Ave\, Burleson\, Texas\, 76028
ATTACH;FMTTYPE=image/jpeg:https://fwana.org/wp-content/uploads/2025/09/IMG_4176.jpeg
END:VEVENT
END:VCALENDAR