BEGIN:VCALENDAR
VERSION:2.0
PRODID:-//Fort Worth Area of Narcotics Anonymous - ECPv6.15.20//NONSGML v1.0//EN
CALSCALE:GREGORIAN
METHOD:PUBLISH
X-ORIGINAL-URL:https://fwana.org
X-WR-CALDESC:Events for Fort Worth Area of Narcotics Anonymous
REFRESH-INTERVAL;VALUE=DURATION:PT1H
X-Robots-Tag:noindex
X-PUBLISHED-TTL:PT1H
BEGIN:VTIMEZONE
TZID:America/Chicago
BEGIN:DAYLIGHT
TZOFFSETFROM:-0600
TZOFFSETTO:-0500
TZNAME:CDT
DTSTART:20240310T080000
END:DAYLIGHT
BEGIN:STANDARD
TZOFFSETFROM:-0500
TZOFFSETTO:-0600
TZNAME:CST
DTSTART:20241103T070000
END:STANDARD
BEGIN:DAYLIGHT
TZOFFSETFROM:-0600
TZOFFSETTO:-0500
TZNAME:CDT
DTSTART:20250309T080000
END:DAYLIGHT
BEGIN:STANDARD
TZOFFSETFROM:-0500
TZOFFSETTO:-0600
TZNAME:CST
DTSTART:20251102T070000
END:STANDARD
BEGIN:DAYLIGHT
TZOFFSETFROM:-0600
TZOFFSETTO:-0500
TZNAME:CDT
DTSTART:20260308T080000
END:DAYLIGHT
BEGIN:STANDARD
TZOFFSETFROM:-0500
TZOFFSETTO:-0600
TZNAME:CST
DTSTART:20261101T070000
END:STANDARD
END:VTIMEZONE
BEGIN:VEVENT
DTSTART;TZID=America/Chicago:20251213T120000
DTEND;TZID=America/Chicago:20251213T200000
DTSTAMP:20260420T215618
CREATED:20251015T201559Z
LAST-MODIFIED:20251103T000622Z
UID:4653-1765627200-1765656000@fwana.org
SUMMARY:New Way to Live Speaker Jam
DESCRIPTION:
URL:https://fwana.org/calendar/new-way-to-live-speaker-jam/
LOCATION:New Way To Live\, 4500 E. Berry\, Fort Worth\, TX\, 76119
ATTACH;FMTTYPE=application/pdf:https://fwana.org/wp-content/uploads/2025/10/6931186872711632146.pdf
END:VEVENT
BEGIN:VEVENT
DTSTART;TZID=America/Chicago:20251224T120000
DTEND;TZID=America/Chicago:20251225T000000
DTSTAMP:20260420T215618
CREATED:20250125T183015Z
LAST-MODIFIED:20251219T234322Z
UID:4221-1766577600-1766620800@fwana.org
SUMMARY:Step One Christmas Eve
DESCRIPTION:
URL:https://fwana.org/calendar/step-one-christmas-eve/
LOCATION:Step One\, 4213 Hwy 377\, Fort Worth\, TX\, 76116
ATTACH;FMTTYPE=image/jpeg:https://fwana.org/wp-content/uploads/2025/01/NA-step-one.jpg
END:VEVENT
BEGIN:VEVENT
DTSTART;VALUE=DATE:20251225
DTEND;VALUE=DATE:20251226
DTSTAMP:20260420T215618
CREATED:20251218T141338Z
LAST-MODIFIED:20251218T141338Z
UID:4759-1766620800-1766707199@fwana.org
SUMMARY:Time to Live Marathon Meetings
DESCRIPTION:
URL:https://fwana.org/calendar/time-to-live-marathon-meetings/
LOCATION:Time To Live\, 305 N. Field St.\, Cleburne\, TX\, 76031\, United States
END:VEVENT
BEGIN:VEVENT
DTSTART;TZID=America/Chicago:20251225T090000
DTEND;TZID=America/Chicago:20251225T220000
DTSTAMP:20260420T215618
CREATED:20250125T183421Z
LAST-MODIFIED:20251219T234233Z
UID:4223-1766653200-1766700000@fwana.org
SUMMARY:Step One Christmas Day Pancake Breakfast & Lunch
DESCRIPTION:
URL:https://fwana.org/calendar/step-one-christmas-day-pancake-breakfast-lunch/
LOCATION:Step One\, 4213 Hwy 377\, Fort Worth\, TX\, 76116
ATTACH;FMTTYPE=image/jpeg:https://fwana.org/wp-content/uploads/2025/01/NA-step-one.jpg
END:VEVENT
BEGIN:VEVENT
DTSTART;TZID=America/Chicago:20251225T120000
DTEND;TZID=America/Chicago:20251225T210000
DTSTAMP:20260420T215618
CREATED:20251222T234358Z
LAST-MODIFIED:20251222T234358Z
UID:4775-1766664000-1766696400@fwana.org
SUMMARY:Arlington Group Holiday Celebration
DESCRIPTION:
URL:https://fwana.org/calendar/arlington-group-holiday-celebration/
LOCATION:Arlington Group\, 1863 W. Division St\, Arlington\, TX\, 76012
ATTACH;FMTTYPE=image/jpeg:https://fwana.org/wp-content/uploads/2025/12/IMG_4511.jpeg
END:VEVENT
END:VCALENDAR