BEGIN:VCALENDAR
VERSION:2.0
PRODID:-//Fort Worth Area of Narcotics Anonymous - ECPv6.15.20//NONSGML v1.0//EN
CALSCALE:GREGORIAN
METHOD:PUBLISH
X-ORIGINAL-URL:https://fwana.org
X-WR-CALDESC:Events for Fort Worth Area of Narcotics Anonymous
REFRESH-INTERVAL;VALUE=DURATION:PT1H
X-Robots-Tag:noindex
X-PUBLISHED-TTL:PT1H
BEGIN:VTIMEZONE
TZID:America/Chicago
BEGIN:DAYLIGHT
TZOFFSETFROM:-0600
TZOFFSETTO:-0500
TZNAME:CDT
DTSTART:20250309T080000
END:DAYLIGHT
BEGIN:STANDARD
TZOFFSETFROM:-0500
TZOFFSETTO:-0600
TZNAME:CST
DTSTART:20251102T070000
END:STANDARD
BEGIN:DAYLIGHT
TZOFFSETFROM:-0600
TZOFFSETTO:-0500
TZNAME:CDT
DTSTART:20260308T080000
END:DAYLIGHT
BEGIN:STANDARD
TZOFFSETFROM:-0500
TZOFFSETTO:-0600
TZNAME:CST
DTSTART:20261101T070000
END:STANDARD
BEGIN:DAYLIGHT
TZOFFSETFROM:-0600
TZOFFSETTO:-0500
TZNAME:CDT
DTSTART:20270314T080000
END:DAYLIGHT
BEGIN:STANDARD
TZOFFSETFROM:-0500
TZOFFSETTO:-0600
TZNAME:CST
DTSTART:20271107T070000
END:STANDARD
END:VTIMEZONE
BEGIN:VEVENT
DTSTART;VALUE=DATE:20260101
DTEND;VALUE=DATE:20260102
DTSTAMP:20260420T200352
CREATED:20251208T180427Z
LAST-MODIFIED:20251208T180427Z
UID:4754-1767225600-1767311999@fwana.org
SUMMARY:Another Chance Marathon Meetings
DESCRIPTION:
URL:https://fwana.org/calendar/another-chance-marathon-meetings-2/
LOCATION:Another Chance\, 732 Brown Trail\, Hurst\, TX\, 76053
END:VEVENT
BEGIN:VEVENT
DTSTART;TZID=America/Chicago:20260110T120000
DTEND;TZID=America/Chicago:20260110T220000
DTSTAMP:20260420T200352
CREATED:20250924T164516Z
LAST-MODIFIED:20251219T235607Z
UID:4635-1768046400-1768082400@fwana.org
SUMMARY:Expect a Miracle Anniversary
DESCRIPTION:26th Anniversary\nChristCultureChurch Gym
URL:https://fwana.org/calendar/expect-a-miracle-anniversary/
LOCATION:Christ Culture Church\, 640 NW Tarrant Ave\, Burleson\, Texas\, 76028
ATTACH;FMTTYPE=image/jpeg:https://fwana.org/wp-content/uploads/2025/09/IMG_4176.jpeg
END:VEVENT
BEGIN:VEVENT
DTSTART;TZID=America/Chicago:20260111T133000
DTEND;TZID=America/Chicago:20260111T170000
DTSTAMP:20260420T200352
CREATED:20260107T182244Z
LAST-MODIFIED:20260108T021800Z
UID:4779-1768138200-1768150800@fwana.org
SUMMARY:CAR Workshop
DESCRIPTION:Conference Agenda Report\nhttps://na.org/wp-content/uploads/2025/11/2026-CAR-11-12-25.pdf \nVIA ZOOM \nID: 706 970 6984 \nPassword: 4YccQa
URL:https://fwana.org/calendar/car-workshop/
LOCATION:Another Chance\, 732 Brown Trail\, Hurst\, TX\, 76053
ATTACH;FMTTYPE=image/jpeg:https://fwana.org/wp-content/uploads/2026/01/IMG_4987.jpeg
END:VEVENT
BEGIN:VEVENT
DTSTART;TZID=America/Chicago:20260127T190000
DTEND;TZID=America/Chicago:20260127T203000
DTSTAMP:20260420T200352
CREATED:20260127T212326Z
LAST-MODIFIED:20260127T212326Z
UID:4816-1769540400-1769545800@fwana.org
SUMMARY:Haslet NA
DESCRIPTION:Because of the ice\, we are meeting by Zoom tonight ONLY.\n\nhttps://us06web.zoom.us/j/83592693457?pwd=aIfE2q0pTb79PM81DIYwnANkncX5ex.1 \nMeeting ID: 835 9269 3457\nPasscode: 963661
URL:https://fwana.org/calendar/haslet-na/
LOCATION:Haslet NA\, 220 N Main St\, Haslet\, TX\, 76052\, United States
ATTACH;FMTTYPE=image/png:https://fwana.org/wp-content/uploads/2026/01/Zoom.png
END:VEVENT
BEGIN:VEVENT
DTSTART;TZID=America/Chicago:20260131T193000
DTEND;TZID=America/Chicago:20260131T235900
DTSTAMP:20260420T200352
CREATED:20251102T213224Z
LAST-MODIFIED:20260111T141252Z
UID:4697-1769887800-1769903940@fwana.org
SUMMARY:Another Chance Movie Night
DESCRIPTION:
URL:https://fwana.org/calendar/another-chance-marathon-meetings/
LOCATION:Another Chance\, 732 Brown Trail\, Hurst\, TX\, 76053
ATTACH;FMTTYPE=image/jpeg:https://fwana.org/wp-content/uploads/2025/11/IMG_5038.jpeg
END:VEVENT
END:VCALENDAR